BEGIN:VCALENDAR
VERSION:2.0
PRODID:-//Proud Henry - ECPv4.9.9//NONSGML v1.0//EN
CALSCALE:GREGORIAN
METHOD:PUBLISH
X-WR-CALNAME:Proud Henry
X-ORIGINAL-URL:https://proudhenry.com.au
X-WR-CALDESC:Events for Proud Henry
BEGIN:VTIMEZONE
TZID:Europe/Paris
BEGIN:DAYLIGHT
TZOFFSETFROM:+0100
TZOFFSETTO:+0200
TZNAME:CEST
DTSTART:20190331T010000
END:DAYLIGHT
BEGIN:STANDARD
TZOFFSETFROM:+0200
TZOFFSETTO:+0100
TZNAME:CET
DTSTART:20191027T010000
END:STANDARD
END:VTIMEZONE
BEGIN:VEVENT
DTSTART;TZID=Europe/Paris:20190608T120000
DTEND;TZID=Europe/Paris:20190608T120000
DTSTAMP:20200301T230049
CREATED:20190205T092840Z
LAST-MODIFIED:20190404T053143Z
UID:1150-1559995200-1559995200@proudhenry.com.au
SUMMARY:World Gin Day!!
DESCRIPTION:Gin lovers of the world rejoice as World Gin Day is returning for its ELEVENTH year on Saturday 8 June 2019 and it’s going to be the biggest event yet. We will not only be having live music to make the good times roll\, but hosting gin makers and gin representatives here to help you try all types of new gins to get that Gin monkey off your back. Tickets include two Gin and Tonics from one of our multiple Gin Makers here on the day\, Live music and much more. Our doors will fly open from Midday for all you Gin needs. \nDon’t miss out this event always sells out!! Don’t worry you will have Sunday to recover! \n
URL:https://proudhenry.com.au/event/world-gin-day/
LOCATION:Proud Henry\, 153 Wickham Street\, Fortitude Valley\, QLD\, 4006\, Australia
ATTACH;FMTTYPE=image/jpeg:https://proudhenry.com.au/wp-content/uploads/2019/02/worldginday-2-e1554355852672.jpg
ORGANIZER;CN="Patrick%20Ivison":MAILTO:orders@proudhenry.com.au
END:VEVENT
END:VCALENDAR